BEGIN:VCALENDAR
VERSION:2.0
PRODID:https://www.gidi.it
X-PUBLISHED-TTL:P1W
BEGIN:VEVENT
UID:69e661fe45da7
DTSTART;VALUE=DATE:20251111
SEQUENCE:0
TRANSP:OPAQUE
DTEND;VALUE=DATE:20251113
URL:https://www.gidi.it/en/exhibitions/gd-at-wt-middle-east-25-discover-the
 -future-of-production-
LOCATION: Dubai\, United Arab Emirates
SUMMARY:G.D at WT Middle East 25: discover the future of production 
CLASS:PUBLIC
X-ALT-DESC;FMTTYPE=text/html:<p>Visit us at <strong>WT Middle East 2025 in 
 Dubai\, November 11-12\, Booth C65</strong>\, and explore our solutions fr
 om conventional to HnB and modern oral products.</p><p>Our cutting-edge te
 chnologies are designed to enhance production flexibility\, reliability\, 
 and efficiency across every stage of manufacturing.<br>Don’t miss the op
 portunity to meet the G.D\, Cerulean\, Comas\, Molins and Sasib teams to f
 ind out how our portfolio can drive your business forward.</p><p><strong>M
 eet us:</strong><br>World Tobacco Middle East\, 11-12 November 2025<br>Dub
 ai World Trade Centre\, Sheikh Zayed Rd – World Trade Centre- Dubai<br>M
 ain hall / Booth C65&nbsp\;</p>\, coesia_editor_manager
X-MICROSOFT-CDO-ALLDAYEVENT:TRUE
DTSTAMP:20260420T192726Z
END:VEVENT
END:VCALENDAR