BEGIN:VCALENDAR
VERSION:2.0
PRODID:https://www.gidi.it
X-PUBLISHED-TTL:P1W
BEGIN:VEVENT
UID:69e604454dbce
DTSTART;VALUE=DATE:20251023
SEQUENCE:0
TRANSP:OPAQUE
DTEND;VALUE=DATE:20251025
URL:https://www.gidi.it/en/exhibitions/take-your-production-to-the-next-lev
 el-visit-gd-at-wt-asia-2025
LOCATION:Surabaya\, Indonesia
SUMMARY:Take your production to the next level: visit G.D at WT Asia 2025
CLASS:PUBLIC
X-ALT-DESC;FMTTYPE=text/html:<p>Join us at <strong>WT Asia\, October 23-24<
 /strong>\, together with Cerulean\, Comas\, Molins\, and Sasib to learn mo
 re about our advanced solutions for tobacco products.<br><br>From conventi
 onal to HnB and modern oral\, our technologies are designed to help manufa
 cturers streamline complex production processes while maintaining the high
 est standards of performance and quality.<br><br>Connect with our team at 
 <strong>Booth H10</strong> to discover solutions for multiple market segme
 nts and learn how to optimize the efficiency of your production line.<br>&
 nbsp\;</p><p><strong>Meet us:</strong><br>WT Asia\, 23-24 October 2025<br>
 Grand City Surabaya\, Indonesia<br>Main hall\, Booth H10</p>\, coesia_edit
 or_manager
X-MICROSOFT-CDO-ALLDAYEVENT:TRUE
DTSTAMP:20260420T124733Z
END:VEVENT
END:VCALENDAR