BEGIN:VCALENDAR
VERSION:2.0
PRODID:https://www.gidi.it
X-PUBLISHED-TTL:P1W
BEGIN:VEVENT
UID:69e5d5276b1d0
DTSTART;VALUE=DATE:20250918
SEQUENCE:0
TRANSP:OPAQUE
DTEND;VALUE=DATE:20250921
URL:https://www.gidi.it/en/exhibitions/intersupply-2025-explore-the-next-ge
 neration-of-solutions
LOCATION:Messe Dortmund\, Germany 
SUMMARY:Intersupply 2025: explore the next generation of solutions
CLASS:PUBLIC
X-ALT-DESC;FMTTYPE=text/html:<p>Visit us at<strong>&nbsp\;Intersupply\, fro
 m 18 to 20 September</strong>\, to explore our full range of technologies\
 , from conventional to HnB and modern oral.</p><p>Together with Cerulean\,
  Comas\, Molins and Sasib\, we will present a comprehensive portfolio desi
 gned to deliver performance\, quality\, and innovation to meet the industr
 y’s evolving needs.</p><p>Don’t miss the chance to connect with our te
 am at the <strong>Hall 3\, Booth C16</strong> and discover how our advance
 d solutions can support your upcoming projects.</p><p><strong>Meet us:</st
 rong><br>InterSupply\, 18-20 September 2025<br>Messe Dortmund GmbH\, Strob
 elallee 45\, 44139 Dortmund\, Germany&nbsp\;<br>Hall 3\, Booth C16<br>&nbs
 p\;<br>&nbsp\;</p>\, coesia_editor_manager
X-MICROSOFT-CDO-ALLDAYEVENT:TRUE
DTSTAMP:20260420T092631Z
END:VEVENT
END:VCALENDAR